BEGIN:VCALENDAR
VERSION:2.0
PRODID:-//https://www.wbp.opole.pl///NONSGML kigkonsult.se iCalcreator 2.10.15//
METHOD:PUBLISH
BEGIN:VEVENT
UID:20260422T202105CEST-3956G7UnOJ@https://www.wbp.opole.pl/
DTSTAMP:20260422T182105Z
DESCRIPTION:Zapraszamy&nbsp\; na koncert\nMuzyka w Galerii czyli Galeria Mu
 zyki\nw wykonaniu uczniów Państwowej Szkoły Muzycznej I i II st. im. Fryde
 ryka Chopina w Opolu.\nW programie:\nJulia Edaich - wiolonczelaklasa p. Łu
 cji Butor\n\nJohann Sebastian Bach - Preludium z Suity G- dur na wioloncze
 lę solo\n\nAleksandra Ganczarska - śpiewklasa p. Rafała Żurakowskiego\n\nW
 olfgang Amadeus Mozart - aria Zerliny 'Vedrai carino' &nbsp\;&nbsp\;&nbsp\
 ;&nbsp\;&nbsp\;&nbsp\;&nbsp\;&nbsp\;&nbsp\;&nbsp\;&nbsp\;&nbsp\;&nbsp\;&nb
 sp\;&nbsp\;z opery „Don Giovanni”\nFranz Schubert - 'Lachen und Weinen'\n
 \nakompaniament &nbsp\;p. Beata Pollak\nEstera Wilczyńska - wiolonczelakl
 asa p. Anny Furkałowskiej\n\nJerzy Bauer - Trzy Melodie Kurpiowskie&nbsp\;
 \n\nakompaniament p. Elżbieta Ceglarek\nTomasz Dutko - wiolonczelaklasa p.
  Anny Furkałowskiej\n\nWilliam Henry Squire - Danse Rustique op. 20 nr 5&n
 bsp\;\n\nakompaniament &nbsp\;p. Elżbieta Ceglarek&nbsp\;\nJakub Łabędzk
 i - śpiewklasa p. Rafała Żurakowskiego\n\nRobert Schumann - dwie pieśni z
  cyklu 'Dichterliebe'\nGabriel Fauré - 'Ici bas'\n\nakompaniament &nbsp\;p
 . Rafał Żurakowski\nRyszard Janiak – śpiew\nklasa p. Rafała Żurakowskiego
 \n\nAndrea Falconieri – arietta „Occhietti Amati”\nGeorg Friedrich Händel 
 – aria „Total eclipse” z oratorium „Samson”\nFranz Schubert – „An Sylvia”
 \n\nakompaniament p. Rafał Żurakowski\nJakub Parzybut - obójklasa p. Kata
 rzyny Blicharskiej-Wczasek\n\nJoseph Haydn - Menuet&nbsp\;\n\nakompaniamen
 t &nbsp\;p. Joanna Sławińska- Kurdziel\nAntonia Buhl - obójklasa p. Katar
 zyny Blicharskiej-Wczasek\n\nGeorg Friedrich Haendel - Koncert g-moll cz. 
 1&nbsp\;\n\nakompaniament &nbsp\;p. Joanna Sławińska-Kurdziel\nMartyna Sie
 rakowska – skrzypceklasa p. Marii Ołdak&nbsp\;\n\nNicolló Paganini - Mały 
 kaprys nr 15\nHenryk Mikołaj Górecki - Sonatina w jednej części\n\nakom
 paniament &nbsp\;p. Wojciech Kopczak\nAntoni Werner – wiolonczelaklasa p. 
 Anny Furkałowskiej\n\nDawid Popper - Tarantella op. 33&nbsp\;\n\nakompania
 ment &nbsp\;p. Wojciech Kopczak&nbsp\;\nJulian Szcześniak&nbsp\;– wiolonc
 zelaklasa p. Anny Hryniów-Kościów\n\nBéla Bartók - Tańce rumuńskie\n
 \nakompaniament &nbsp\;p. Wojciech Kopczak\nMagdalena Preusner – śpiewklas
 a p. Rafała Żurakowskiego\n\nWolfgang Amadeus Mozart - aria Zuzanny 'Giuns
 e alfin il momento' z opery „Wesele Figara”\nAntonín Dvořák - 'Gdyż mne s
 tara matka' z cyklu Pieśni cygańskich\n\nakompaniament &nbsp\;p. Joanna 
 Wąsiak\nZofia Kędziora – śpiewklasa p. Rafała Żurakowskiego\n\nChristoph 
 Willibald Gluck - aria Orfeusza 'Che faro senza Euridice' z opery „Orfeusz
  i Eurydyka”\nStanisław Moniuszko - 'Groźna dziewczyna'\n\nakompaniament 
 &nbsp\;p. Joanna Wąsiak\nOliwia Mainka – obójklasa p. Katarzyny Blicharsk
 iej-Wczasek\n\nGeorg Friedrich Händel - Koncert g-moll cz. 1\n\nakompaniam
 ent &nbsp\;p. Mateusz Rożek\nMarta Ludwig – obójklasa p. Katarzyny Blicha
 rskiej-Wczasek\n\nAlessandro Marcello - Koncert d-moll cz. 2\n\nakompaniam
 ent p. Mateusz Rożek\n&nbsp\;\n21 kwietnia\, godz. 17:00Namiot w ogrodzie
  WBP\n&nbsp\;\n* Informujemy\, że spotkania organizowane przez WBP w Opolu
  są rejestrowane oraz fotografowane. Materiały służą realizacji celów stat
 utowych i promocyjnych\, w tym publikowaniu na stronie www\, w social medi
 ach i wydawnictwach WBP w Opolu. https://www.wbp.opole.pl/kalendarz/wydarz
 enie/590-muzyka-w-galerii-czyli-galeria-muzyki
DTSTART;VALUE=DATE:20220421
LOCATION:Wojewódzka Biblioteka Publiczna ul. Piastowska 20 ()
SUMMARY:Muzyka w Galerii czyli Galeria Muzyki
URL:https://www.wbp.opole.pl/kalendarz/wydarzenie/590-muzyka-w-galerii-czyl
 i-galeria-muzyki
END:VEVENT
BEGIN:VEVENT
UID:20260422T202105CEST-3965x40VXR@https://www.wbp.opole.pl/
DTSTAMP:20260422T182105Z
DESCRIPTION:Stobrawski Park Krajobrazowy położony jest w&nbsp\;dorzeczu Sto
 brawy\, Budkowiczanki\, Bogacicy\, Brynicy i&nbsp\;Smortawy. Na południu g
 ranica parku opiera się o&nbsp\;rzekę Odrę oraz Nysę Kłodzką. To właśnie w
 &nbsp\;dolinach rzek znajdują się najcenniejsze przyrodniczo fragmenty par
 ku. Są nimi położone wzdłuż Odry tereny lasów grądowych\, łęgowych\, podmo
 kłych łąk oraz porośnięte roślinnością wodną i&nbsp\;bagienną starorzecza.
  Cenne są również doliny pozostałych rzek będące mozaiką łąk\, pól\, zadrz
 ewień\, kęp krzewów oraz sieci kanałów melioracyjnych. Miejsca te razem z&
 nbsp\;kompleksami stawów hodowlanych są ostoją dla wielu rzadkich gatunków
  zwierząt (głównie ptaków) i&nbsp\;roślin.\nNa terenie parku stwierdzono w
 ystępowanie 60 gatunków roślin prawnie chronionych\, 16 gatunków z Polskie
 j czerwonej listy oraz około 130 gatunków rzadkich. Do najciekawszych nale
 żą: długosz królewski\, rosiczka okrągłolistna\, lilia złotogłów\, mysiure
 k maleńki\, lindernia mułowa\, 7 gatunków z&nbsp\;rodziny storczykowatych 
 (m. in. kukułka Fuchsa i&nbsp\;kruszczyk siny). Salwinia pływająca\, kotew
 ka orzech wodny i&nbsp\;lindernia mułowa zostały umieszczone na liście roś
 lin chronionych w&nbsp\;Europie Konwencją Berneńską.\nTeren parku krajobra
 zowego również pod względem faunistycznym zdecydowanie wyróżnia się spośró
 d innych cennych przyrodniczo obszarów województwa opolskiego. Do rozrodu 
 przystępuje tu około 250 chronionych gatunków zwierząt (w&nbsp\;tym 165 ga
 tunków ptaków). Duże znaczenie dla zachowania bogactwa fauny parku mają la
 sy liściaste położone na terenie doliny Odry i&nbsp\;Nysy Kłodzkiej oraz w
 &nbsp\;pobliżu stawów rybnych. Są one miejscem występowania wielu gatunków
  zwierząt\, które gdzie indziej stają się coraz rzadsze. Należą do nich ka
 nia czarna i&nbsp\;ruda (symbol parku)\, orlik krzykliwy\, bielik\, dzięci
 oł średni\, muchołówka białoszyja i&nbsp\;mała oraz koszatka i popielica.
 \nZgodnie z definicją obszar parku krajobrazowego to nie tylko przyroda\, 
 ale też historia i kultura. Teren Stobrawskiego Parku Krajobrazowego kryje
  liczne pozostałości dawnych czasów. Są to ukryte w leśnych ostępach średn
 iowieczne grodziska\, pozostałości warowni\, stare cmentarze\, kościoły\, 
 przydrożne kapliczki\, czy całe miejscowości o niezaprzeczalnych walorach 
 historycznych\, takie jak chociażby Pokój\, czy Karłowice.\nWszystkie te e
 lementy sprawiają\, że Stobrawski Park Krajobrazowy to wspaniałe miejsce d
 o spędzania czasu na łonie natury. Jego walory można podziwiać i poznawać 
 uprawiając turystykę pieszą\, rowerową\, konną czy kajakową. Samych szlakó
 w turystycznych jest na terenie parku ponad 200 km. Są tu też ścieżki eduk
 acyjne\, szlaki rowerowe czy narciarskie trasy biegowe\, które zapraszają 
 do poznawania tych wyjątkowych terenów.\nW czytelni Wojewódzkiej Bibliotek
 i Publicznej w Opolu przez najbliższe trzy miesiące – do 30.06.2022 r. - e
 ksponowana jest wystawa fotograficzna opracowana przez Zespół Opolskich Pa
 rków Krajobrazowych\, prezentująca walory przyrodnicze\, krajobrazowe i ku
 lturowe parku.\n&nbsp\;&nbsp\;&nbsp\;\n&nbsp\;&nbsp\;&nbsp\; https://www.w
 bp.opole.pl/kalendarz/wydarzenie/591-wystawa-stobrawski-park-krajobrazowy
DTSTART:20220408T135600Z
DTEND:20220630T155600Z
LOCATION:Wojewódzka Biblioteka Publiczna ul. Piastowska 20 ()
SUMMARY:Wystawa Stobrawski Park Krajobrazowy
URL:https://www.wbp.opole.pl/kalendarz/wydarzenie/591-wystawa-stobrawski-pa
 rk-krajobrazowy
END:VEVENT
BEGIN:VEVENT
UID:20260422T202105CEST-3972gaJ01H@https://www.wbp.opole.pl/
DTSTAMP:20260422T182105Z
DESCRIPTION:21.04.2022 r. na wernisażu „Po raz pierwszy światło ujrzały” st
 arodruki\, zabytkowe grafiki i mapy zakupione z dotacji przyznanej przez S
 amorząd Województwa Opolskiego w 2021 roku.\nDzięki decyzji Pana Marszałka
  Andrzeja Buły\, &nbsp\;Wojewódzka Biblioteka Publiczna w Opolu otrzymała 
 846 tysięcy zł z przeznaczeniem na zakup zbiorów zabytkowych. Nabyte dzieł
 a piśmiennictwa i ikonografii znacząco wzbogaciły zbiory zabytkowe\, przec
 howywane w Zamku w Rogowie Opolskim. Część z cymeliów\, zakupionych w anty
 kwariatach\, na aukcjach i od prywatnych kolekcjonerów\, pokazywana jest w
  Galerii WuBePe. Ekspozycji towarzyszy Informator przybliżający prezentowa
 ne zabytki należące do europejskiego dziedzictwa kulturowego.\nZe względów
  konserwatorskich wystawa prezentowana będzie tylko do 13 maja 2022 roku.
 \n\n https://www.wbp.opole.pl/kalendarz/wydarzenie/602-wystawa-po-raz-pier
 wszy-swiatlo-ujrzaly
DTSTART:20220420T220000Z
DTEND:20220513T215400Z
LOCATION:Galeria WuBePe ()
SUMMARY:Wystawa Po raz pierwszy światło ujrzały...
URL:https://www.wbp.opole.pl/kalendarz/wydarzenie/602-wystawa-po-raz-pierws
 zy-swiatlo-ujrzaly
END:VEVENT
BEGIN:VEVENT
UID:20260422T202105CEST-3975oS7Xaj@https://www.wbp.opole.pl/
DTSTAMP:20260422T182105Z
DESCRIPTION:Plan spotkań autorskich na czerwiec&nbsp\;\nZACZYTANE OPOLSKIE
 \n\n\n\n\n05.06.2024\n\n\nMarcin Meller\n\n\nPrudnik godz. 18.00\n\n\nZacz
 ytane Opolskie\n\n\n\n\n06.06.2024\n\n\nMarcin Meller\n\n\nWBP w Opolu god
 z. 17.00\n\n\nZaczytane Opolskie\n\n\n\n\n07.06.2024\n\n\nMarcin Meller\n
 \n\nNamysłów godz. 17.00\n\n\nZaczytane Opolskie\n\n\n\n\n07.06.2024\n\n\n
 Artur Andrus\n\n\nPraszka godz. 17.00\n\n\nZaczytane Opolskie\n\n\n\n\n10.
 06.2024\n\n\nJarosław Mikołajewski\n\n\nGogolin dla dzieci godz.10.00\n\n
 \nDyskusyjny Klub Książki\n\n\n\n\n10.06.2024\n\n\nJarosław Mikołajewski\n
 \n\nŁubniany&nbsp\; godz. 18.00\n\n\nZaczytane Opolskie\n\n\n\n\n11.06.202
 4\n\n\nJarosław Mikołajewski\n\n\nBaborów dla dzieci godz. 11.00\n\n\nDysk
 usyjny Klub Książki\n\n\n\n\n10.06.2024\n\n\nMarta Abramowicz\n\n\nWBP w O
 polu godz. 17.00\n\n\nZaczytane Opolskie\n\n\n\n\n11.06.2024\n\n\nMarta Ab
 ramowicz\n\n\nDobrodzień godz. 18.00\n\n\nZaczytane Opolskie\n\n\n\n\n12.0
 6.2024\n\n\nMarta Abramowicz\n\n\nDobrzeń Wielki godz. 17.30\n\n\nZaczytan
 e Opolskie\n\n\n\n\n13.06.2024\n\n\nMarta Abramowicz\n\n\nGłuchołazy godz.
  17.00\n\n\nDyskusyjny Klub Książki\n\n\n\n\n14.06.2024\n\n\nJan Miodek\n
 \n\nWBP w Opolu godz. 17.00\n\n\nZaczytane Opolskie\n\n\n\n\n17.06.2024\n
 \n\nAgnieszka Lis\n\n\nWilków godz. 17.00\n\n\nZaczytane Opolskie\n\n\n\n
 \n18.06.2024\n\n\nAgnieszka Lis\n\n\nŚwierczów godz. 17.00\n\n\nZaczytane 
 Opolskie\n\n\n\n\n19.06.2024\n\n\nAgnieszka Lis\n\n\nLubsza f. Kościerzyce
  godz. 16.00\n\n\nZaczytane Opolskie\n\n\n\n\n20.06.2024\n\n\nAgnieszka Li
 s\n\n\nTurawa godz. 17.00\n\n\nZaczytane Opolskie\n\n\n\n\n21.06.2024\n\n
 \nAgnieszka Lis\n\n\nLasowice godz. 17.00\n\n\nZaczytane Opolskie\n\n\n\n 
 https://www.wbp.opole.pl/kalendarz/wydarzenie/937-zaczytane-opolskie-2024-
 r
DTSTART:20200106T141500Z
DTEND:20250306T161500Z
LOCATION:Wojewódzka Biblioteka Publiczna ul. Piastowska 20 ()
SUMMARY:'Zaczytane Opolskie' 2024 r.
URL:https://www.wbp.opole.pl/kalendarz/wydarzenie/937-zaczytane-opolskie-20
 24-r
END:VEVENT
END:VCALENDAR
