BEGIN:VCALENDAR
VERSION:2.0
PRODID:-//https://www.wbp.opole.pl///NONSGML kigkonsult.se iCalcreator 2.10.15//
METHOD:PUBLISH
BEGIN:VEVENT
UID:20260423T030538CEST-7388NgfAX1@https://www.wbp.opole.pl/
DTSTAMP:20260423T010538Z
DESCRIPTION:Plan spotkań autorskich na czerwiec&nbsp\;\nZACZYTANE OPOLSKIE
 \n\n\n\n\n05.06.2024\n\n\nMarcin Meller\n\n\nPrudnik godz. 18.00\n\n\nZacz
 ytane Opolskie\n\n\n\n\n06.06.2024\n\n\nMarcin Meller\n\n\nWBP w Opolu god
 z. 17.00\n\n\nZaczytane Opolskie\n\n\n\n\n07.06.2024\n\n\nMarcin Meller\n
 \n\nNamysłów godz. 17.00\n\n\nZaczytane Opolskie\n\n\n\n\n07.06.2024\n\n\n
 Artur Andrus\n\n\nPraszka godz. 17.00\n\n\nZaczytane Opolskie\n\n\n\n\n10.
 06.2024\n\n\nJarosław Mikołajewski\n\n\nGogolin dla dzieci godz.10.00\n\n
 \nDyskusyjny Klub Książki\n\n\n\n\n10.06.2024\n\n\nJarosław Mikołajewski\n
 \n\nŁubniany&nbsp\; godz. 18.00\n\n\nZaczytane Opolskie\n\n\n\n\n11.06.202
 4\n\n\nJarosław Mikołajewski\n\n\nBaborów dla dzieci godz. 11.00\n\n\nDysk
 usyjny Klub Książki\n\n\n\n\n10.06.2024\n\n\nMarta Abramowicz\n\n\nWBP w O
 polu godz. 17.00\n\n\nZaczytane Opolskie\n\n\n\n\n11.06.2024\n\n\nMarta Ab
 ramowicz\n\n\nDobrodzień godz. 18.00\n\n\nZaczytane Opolskie\n\n\n\n\n12.0
 6.2024\n\n\nMarta Abramowicz\n\n\nDobrzeń Wielki godz. 17.30\n\n\nZaczytan
 e Opolskie\n\n\n\n\n13.06.2024\n\n\nMarta Abramowicz\n\n\nGłuchołazy godz.
  17.00\n\n\nDyskusyjny Klub Książki\n\n\n\n\n14.06.2024\n\n\nJan Miodek\n
 \n\nWBP w Opolu godz. 17.00\n\n\nZaczytane Opolskie\n\n\n\n\n17.06.2024\n
 \n\nAgnieszka Lis\n\n\nWilków godz. 17.00\n\n\nZaczytane Opolskie\n\n\n\n
 \n18.06.2024\n\n\nAgnieszka Lis\n\n\nŚwierczów godz. 17.00\n\n\nZaczytane 
 Opolskie\n\n\n\n\n19.06.2024\n\n\nAgnieszka Lis\n\n\nLubsza f. Kościerzyce
  godz. 16.00\n\n\nZaczytane Opolskie\n\n\n\n\n20.06.2024\n\n\nAgnieszka Li
 s\n\n\nTurawa godz. 17.00\n\n\nZaczytane Opolskie\n\n\n\n\n21.06.2024\n\n
 \nAgnieszka Lis\n\n\nLasowice godz. 17.00\n\n\nZaczytane Opolskie\n\n\n\n 
 https://www.wbp.opole.pl/kalendarz/wydarzenie/937-zaczytane-opolskie-2024-
 r
DTSTART:20200106T141500Z
DTEND:20250306T161500Z
LOCATION:Wojewódzka Biblioteka Publiczna ul. Piastowska 20 ()
SUMMARY:'Zaczytane Opolskie' 2024 r.
URL:https://www.wbp.opole.pl/kalendarz/wydarzenie/937-zaczytane-opolskie-20
 24-r
END:VEVENT
BEGIN:VEVENT
UID:20260423T030538CEST-7393ase3u7@https://www.wbp.opole.pl/
DTSTAMP:20260423T010538Z
DESCRIPTION:Andrzej Pilipiuk ur. 1974 Twórca literatury fantastyczno-naukow
 ej\, publicysta i regionalista. Debiutował w 1996 roku na łamach miesięczn
 ika 'Fenix'. W latach 1999-2005 pod pseudonimem Tomasz Olszakowski opublik
 ował 19 tomów kontynuacji przygód Pana Samochodzika. Od 2001 związany z wy
 dawnictwem Fabryka słów\, w którym opublikował 48 książek. Jego utwory był
 y tłumaczone na czeski\, ukraiński&nbsp\;i rosyjski. Jest także autorem pr
 ac popularno-naukowych o rodzinnych Wojsławicach.\nPodczas spotkania Księg
 arnia Suplement będzie prowadzić sprzedaż książek!25.05 / 16:00Namiot w og
 rodzie WBP\,&nbsp\;ul. Piastowska 20prowadzenie: dr Łukasz Sasuła\nSpotkan
 ie realizowane w ramach wniosku 'Literackie spotkania' dofinansowanego ze 
 środków Ministerstwa Kultury i Dziedzictwa Narodowego pochodzących z Fundu
 szu Promocji Kultury.\n*Informujemy\, że spotkania organizowane przez WBP 
 w Opolu są rejestrowane oraz fotografowane. Materiały służą realizacji cel
 ów statutowych i promocyjnych\, w tym publikowaniu na stronie www\, w soci
 al mediach i wydawnictwach WBP w Opolu https://www.wbp.opole.pl/kalendarz/
 wydarzenie/967-spotkanie-autorskie-z-andrzejem-pilipiukiem-xiv-opolskie-sp
 otkania-fantastyczne
DTSTART:20240525T140000Z
DTEND:20240525T150000Z
LOCATION:Wojewódzka Biblioteka Publiczna ul. Piastowska 20 ()
SUMMARY:Spotkanie autorskie z Andrzejem Pilipiukiem / XIV Opolskie Spotkani
 a Fantastyczne
URL:https://www.wbp.opole.pl/kalendarz/wydarzenie/967-spotkanie-autorskie-z
 -andrzejem-pilipiukiem-xiv-opolskie-spotkania-fantastyczne
END:VEVENT
BEGIN:VEVENT
UID:20260423T030538CEST-7396jePvhc@https://www.wbp.opole.pl/
DTSTAMP:20260423T010538Z
DESCRIPTION:Jacek Dukaj – prozaik\, eseista\, krytyk. Autor m. in. Czarnych
  oceanów\, Innych pieśni\, Perfekcyjnej niedoskonałości\, Lodu\, Wrońca\, 
 Starości aksolotla\, Imperium chmur oraz licznych opowiadań – w tym zekran
 izowanej przez Tomka Bagińskiego&nbsp\;i nominowanej do Oscara Katedry. Au
 tor eseju-rzeki.&nbsp\;Po piśmie\, ukazującego ludzkość wchodzącą w epokę 
 postpiśmienną. Tłumacz-reinterpretator Serca ciemności Conrada. Laureat na
 gród im. Janusza A. Zajdla\, wielokrotnie nominowany do Paszportu „Polityk
 i”\, także do Nagrody Literackiej Nike i Literackiej Nagrody Europy Środko
 wej Angelus. Laureat Nagrody Kościelskich\, laureat Europejskiej Nagrody L
 iterackiej.&nbsp\;Na podstawie powieści Starość aksolotla Netflix wyproduk
 ował serial Kierunek: Noc. W 2022 roku laureat najważniejszej czeskiej nag
 rody literackiej Magnesia Litera w kategorii literatura tłumaczona (litera
 ture in translation) za powieść Lód. W 2023 roku wyróżniony nagrodą dla na
 jlepszego autora przyznawaną przez European Science Fiction Society. Jego 
 książki zostały przetłumaczone m.in. na angielski\, rosyjski\, włoski\, ja
 poński\, węgierski\, bułgarski\, ukraiński\, macedoński\, a tłumaczenia na
  niemiecki i francuski ukażą się wkrótce. Jacek Dukaj jest prezesem spółki
  technologicznej Nolensum\, w ramach której obecnie trwają prace na grą ko
 mputerową Hardware Dreams\, opartą na jego powieści Starości aksolotla.\nP
 odczas spotkania Księgarnia Suplement będzie prowadzić sprzedaż książek!\n
 25.05 / 18:00Namiot w ogrodzie WBP\,&nbsp\;ul. Piastowska 20prowadzenie: d
 r Marcin Rusnak\nSpotkanie realizowane w ramach wniosku 'Literackie spotka
 nia' dofinansowanego ze środków Ministerstwa Kultury i Dziedzictwa Narodow
 ego pochodzących z Funduszu Promocji Kultury.\n*Informujemy\, że spotkania
  organizowane przez WBP w Opolu są rejestrowane oraz fotografowane. Materi
 ały służą realizacji celów statutowych i promocyjnych\, w tym publikowaniu
  na stronie www\, w social mediach i wydawnictwach WBP w Opolu https://www
 .wbp.opole.pl/kalendarz/wydarzenie/968-spotkanie-autorskie-z-jackiem-dukaj
 em-xiv-opolskie-spotkania-fantastyczne
DTSTART:20240525T160000Z
DTEND:20240525T173000Z
LOCATION:Wojewódzka Biblioteka Publiczna ul. Piastowska 20 ()
SUMMARY:Spotkanie autorskie z Jackiem Dukajem / XIV Opolskie Spotkania Fant
 astyczne
URL:https://www.wbp.opole.pl/kalendarz/wydarzenie/968-spotkanie-autorskie-z
 -jackiem-dukajem-xiv-opolskie-spotkania-fantastyczne
END:VEVENT
BEGIN:VEVENT
UID:20260423T030538CEST-7402UVZgXo@https://www.wbp.opole.pl/
DTSTAMP:20260423T010538Z
DESCRIPTION:Uciekające galaktyki. Polska fantastyka&nbsp\;w trzeciej dekadz
 ie XXI wieku'. Niedawno obchodzona rocznica 500 numerów 'Nowej Fantastyki'
  to dobry pretekst\, by przyjrzeć się\, jak wygląda współczesna polska fan
 tastyka. Skąd idziemy\, dokąd zmierzamy? W jakim momencie przemian jesteśm
 y? Na te pytania poszuka odpowiedzi Michał Cetnarowski -&nbsp\;polski pisa
 rz specjalizujący się głównie w literaturze fantastycznej\, autor wielu op
 owiadań\, publikowanych między innymi w Nowej Fantastyce\, Science Fiction
 \, Fantasy i Horrorze i Magazynie Fantastycznym. Laureat Nagrody&nbsp\; im
 . Janusza A. Zajdla&nbsp\;2016 za napisane wraz z Łukaszem Orbitowskim&nbs
 p\;&nbsp\;opowiadanie&nbsp\; Wywiad z Borutą. W 2022 zdobył Złote Wyróżnie
 nie&nbsp\; Nagrody Literackiej im. Jerzego Żuławskiego za powieść Gnoza.&n
 bsp\; &nbsp\;\n25.05 / 17:15Namiot w Ogrodzie WBP\,&nbsp\;ul. Piastowska 2
 0\nSpotkanie realizowane w ramach wniosku 'Literackie spotkania' dofinanso
 wanego ze środków Ministerstwa Kultury i Dziedzictwa Narodowego pochodzący
 ch z Funduszu Promocji Kultury.\n*Informujemy\, że spotkania organizowane 
 przez WBP w Opolu są rejestrowane oraz fotografowane. Materiały służą real
 izacji celów statutowych i promocyjnych\, w tym publikowaniu na stronie ww
 w\, w social mediach i wydawnictwach WBP w Opolu https://www.wbp.opole.pl/
 kalendarz/wydarzenie/969-spotkanie-autorskie-z-michalem-cetnarowskim-xiv-o
 polskie-spotkania-fantastyczne
DTSTART:20240525T151500Z
DTEND:20240525T160000Z
LOCATION:Wojewódzka Biblioteka Publiczna ul. Piastowska 20 ()
SUMMARY:Spotkanie autorskie z Michałem Cetnarowskim / XIV Opolskie Spotkani
 a Fantastyczne
URL:https://www.wbp.opole.pl/kalendarz/wydarzenie/969-spotkanie-autorskie-z
 -michalem-cetnarowskim-xiv-opolskie-spotkania-fantastyczne
END:VEVENT
END:VCALENDAR
