BEGIN:VCALENDAR
VERSION:2.0
PRODID:-//https://www.wbp.opole.pl///NONSGML kigkonsult.se iCalcreator 2.10.15//
METHOD:PUBLISH
BEGIN:VEVENT
UID:20260420T063207CEST-1645tChrEK@https://www.wbp.opole.pl/
DTSTAMP:20260420T043207Z
DESCRIPTION:Plan spotkań autorskich na czerwiec&nbsp\;\nZACZYTANE OPOLSKIE
 \n\n\n\n\n05.06.2024\n\n\nMarcin Meller\n\n\nPrudnik godz. 18.00\n\n\nZacz
 ytane Opolskie\n\n\n\n\n06.06.2024\n\n\nMarcin Meller\n\n\nWBP w Opolu god
 z. 17.00\n\n\nZaczytane Opolskie\n\n\n\n\n07.06.2024\n\n\nMarcin Meller\n
 \n\nNamysłów godz. 17.00\n\n\nZaczytane Opolskie\n\n\n\n\n07.06.2024\n\n\n
 Artur Andrus\n\n\nPraszka godz. 17.00\n\n\nZaczytane Opolskie\n\n\n\n\n10.
 06.2024\n\n\nJarosław Mikołajewski\n\n\nGogolin dla dzieci godz.10.00\n\n
 \nDyskusyjny Klub Książki\n\n\n\n\n10.06.2024\n\n\nJarosław Mikołajewski\n
 \n\nŁubniany&nbsp\; godz. 18.00\n\n\nZaczytane Opolskie\n\n\n\n\n11.06.202
 4\n\n\nJarosław Mikołajewski\n\n\nBaborów dla dzieci godz. 11.00\n\n\nDysk
 usyjny Klub Książki\n\n\n\n\n10.06.2024\n\n\nMarta Abramowicz\n\n\nWBP w O
 polu godz. 17.00\n\n\nZaczytane Opolskie\n\n\n\n\n11.06.2024\n\n\nMarta Ab
 ramowicz\n\n\nDobrodzień godz. 18.00\n\n\nZaczytane Opolskie\n\n\n\n\n12.0
 6.2024\n\n\nMarta Abramowicz\n\n\nDobrzeń Wielki godz. 17.30\n\n\nZaczytan
 e Opolskie\n\n\n\n\n13.06.2024\n\n\nMarta Abramowicz\n\n\nGłuchołazy godz.
  17.00\n\n\nDyskusyjny Klub Książki\n\n\n\n\n14.06.2024\n\n\nJan Miodek\n
 \n\nWBP w Opolu godz. 17.00\n\n\nZaczytane Opolskie\n\n\n\n\n17.06.2024\n
 \n\nAgnieszka Lis\n\n\nWilków godz. 17.00\n\n\nZaczytane Opolskie\n\n\n\n
 \n18.06.2024\n\n\nAgnieszka Lis\n\n\nŚwierczów godz. 17.00\n\n\nZaczytane 
 Opolskie\n\n\n\n\n19.06.2024\n\n\nAgnieszka Lis\n\n\nLubsza f. Kościerzyce
  godz. 16.00\n\n\nZaczytane Opolskie\n\n\n\n\n20.06.2024\n\n\nAgnieszka Li
 s\n\n\nTurawa godz. 17.00\n\n\nZaczytane Opolskie\n\n\n\n\n21.06.2024\n\n
 \nAgnieszka Lis\n\n\nLasowice godz. 17.00\n\n\nZaczytane Opolskie\n\n\n\n 
 https://www.wbp.opole.pl/kalendarz/wydarzenie/937-zaczytane-opolskie-2024-
 r
DTSTART:20200106T141500Z
DTEND:20250306T161500Z
LOCATION:Wojewódzka Biblioteka Publiczna ul. Piastowska 20 ()
SUMMARY:'Zaczytane Opolskie' 2024 r.
URL:https://www.wbp.opole.pl/kalendarz/wydarzenie/937-zaczytane-opolskie-20
 24-r
END:VEVENT
BEGIN:VEVENT
UID:20260420T063207CEST-1648tVrvOH@https://www.wbp.opole.pl/
DTSTAMP:20260420T043207Z
DESCRIPTION:Wojewódzka Biblioteka Publiczna w Opolu zaprasza na wernisaż wy
 stawy „Wszystko\, co nasze\, Ojczyźnie oddamy! Skauting i harcerstwo na Kr
 esach\, Rusi (Ukrainie)\, Łotwie i w Rosji 1911 – 1946” ze zbiorów Tomasza
  Kuby Kozłowskiego. W pięciu salkach pałacyku przy ul. Piastowskiej 20\, m
 ożna będzie zobaczyć oryginalne wydawnictwa\, materiały i pamiątki związan
 e z jednostkami skautowymi i harcerskimi działającymi na ziemiach wschodni
 ch dawnej Rzeczypospolitej a także na Ukrainie\, Łotwie i w Rosji. Wśród e
 ksponatów przypominających rolę Lwowa jako kolebki polskiego ruchu skautow
 ego znajdą się m.in. oryginalne zdjęcia Andrzeja Małkowskiego i koresponde
 ncje Olgi Drahonowskiej\, dokumenty pierwszych instruktorek skautowych\, p
 ierwsze podręczniki skautowe wydane we Lwowie w latach 1911 - 1914\, egzem
 plarze najważniejszego pisma skautowego i harcerskiego – „Skauta”\, od his
 torycznego\, pierwszego numeru z października 1911 roku po ostatni wydany 
 przed wakacjami w roku 1939\, pocztówki z lat 1911 – 1914 wydawane nakłade
 m Naczelnej Komendy Skautowej i redakcji „Skauta” a także jedyny\, znany e
 gzemplarz kapelusza skautowego ze Lwowa sprzed I wojny Światowej. Na wysta
 wie zaprezentowane zostaną oryginalne wydawnictwa harcerskie z innych ośro
 dków na Kresach m. in. z Wilna\, Stanisławowa\, Borysławia\, Łucka czy Rów
 nego z lat 20. i 30.. Ciekawostką będą ogromnie rzadkie materiały związane
  z działalnością harcerstwa polskiego na wschodzie - w Kijowie\, Tyflisie\
 , Krasławiu i Dyneburgu na Łotwie czy w Kałudze i Nikołajewsku w głębi Ros
 ji. Kresy w latach 20. i 30. były terenem gdzie latem obozowały bardzo lic
 zne drużyny i hufce z całej II Rzeczypospolitej. Stąd na wystawie efektown
 e zdjęcia i albumy z letnich obozów harcerskich na Wileńszczyźnie\, nad Na
 roczą\, na Wołyniu\, Podolu i w Karpatach Wschodnich. Po raz pierwszy zapr
 ezentowane zostaną unikatowe materiały związane z działalnością konspiracy
 jnego Harcerstwa Polskiego we Lwowie w latach 1944 – 1946: fotografie i do
 kumenty\, plany zbiórek\, notatki szkoleniowe\, kronika w formie zielnika.
  Wszystkie obiekty eksponowane na wystawie pochodzą ze zbiorów Tomasza Kub
 y Kozłowskiego\, kolekcjonera i popularyzatora dziedzictwa ziem wschodnich
  dawnej Rzeczypospolitej z Domu Spotkań z Historią w Warszawie. Wernisażow
 i towarzyszyć będzie multimedialna prezentacja Tomasza Kuby Kozłowskiego „
 Lwów – kolebka polskiego skautingu. Nie tylko Andrzej i Olga…”. Serdecznie
  zapraszamy!&nbsp\;\n&nbsp\;&nbsp\;\n&nbsp\; &nbsp\;&nbsp\;Spotkanie reali
 zowane w&nbsp\;ramach wniosku&nbsp\;'Miejsce dla historii'\, dofinansowane
 go ze środków Ministra Kultury i&nbsp\;Dziedzictwa Narodowego\, pochodzący
 ch z&nbsp\;Funduszu Promocji Kultury.\n&nbsp\; https://www.wbp.opole.pl/ka
 lendarz/wydarzenie/972-otwarcie-wystawy-i-prezentacja-tomasza-kuby-kozlows
 kiego
DTSTART:20240528T110000Z
DTEND:20240629T143800Z
LOCATION:Inna lokalizacja (podana w wiadomości) ()
SUMMARY:Otwarcie wystawy i prezentacja Tomasza Kuby Kozłowskiego  
URL:https://www.wbp.opole.pl/kalendarz/wydarzenie/972-otwarcie-wystawy-i-pr
 ezentacja-tomasza-kuby-kozlowskiego
END:VEVENT
BEGIN:VEVENT
UID:20260420T063207CEST-16534fCl67@https://www.wbp.opole.pl/
DTSTAMP:20260420T043207Z
DESCRIPTION:Marcin Meller – dziennikarz i prezentertelewizyjny\, absolwent 
 historii na Uniwersytecie Warszawskim. Przez wiele lat pracował jako repor
 ter w tygodniku „Polityka” (tematyka międzynarodowa\, polityczna i obyczaj
 owa)\, pisał także felietony do „Wprost”. Gospodarz nadawanego przez TVN w
  latach 2000-2002 reality show Agent\, w 2005-2008 razem z Kingą Rusin pro
 wadzący magazyn Dzień Dobry TVN\, w 2008-2009 teleturniej Kapitalny pomysł
 \, od 2009 r. Drugie śniadanie mistrzów\, a obecnie w radiu Roxy FM autor 
 programu Mellina. Były redaktor naczelny polskiej edycji miesięcznika „Pla
 yboy”\, były dyrektor wydawniczy Grupy Wydawniczej Foksal. Autor powieści:
  Trzypuszki bobu\, Czerwona Ziemia\, Nietoperzi suszone cytryny\, Wygadane
  o Wschodzie\,Sprzedawca arbuzów\, Między wariatami.Opowieści terenowo-prz
 ygodowe i inne.\nSpotkanie prowadzi Dominika Gorgosz- Złoty\n6.06.2024 r.\
 , o godzinie 17:00 w namiocie WBP w Opolu\, ul. Piastowska 20.\nPodczas sp
 otkania będzie można kupić książki Marcina Mellera.\nSpotkanie odbędzie si
 ę w&nbsp\;ramach ósmej&nbsp\; edycji&nbsp\;Zaczytanego Opolskiego .\n„Zacz
 ytane Opolskie”&nbsp\;to projekt zainicjowany i&nbsp\;finansowany przez&nb
 sp\;Zarząd Województwa Opolskiego&nbsp\;w&nbsp\;osobie&nbsp\;Marszałka And
 rzeja Buły oraz Wicemarszałka Zbigniewa Kubalańcy\,&nbsp\;przy udziale&nbs
 p\;Departamentu Kultury i&nbsp\;Dziedzictwa Regionalnego&nbsp\;reprezentow
 anego przez&nbsp\;dyrektorkę Agnieszkę Kamińską\,&nbsp\;a&nbsp\;realizowan
 y przez&nbsp\;WBP w&nbsp\;Opolu i&nbsp\;biblioteki całego regionu.\n https
 ://www.wbp.opole.pl/kalendarz/wydarzenie/975-spotkanie-autorskie-z-marcine
 m-mellerem
DTSTART:20240606T150000Z
DTEND:20240606T180000Z
LOCATION:Ogród WBP w Opolu (ul. Piastowska 20\, Opole)
SUMMARY:Spotkanie autorskie z Marcinem Mellerem 
URL:https://www.wbp.opole.pl/kalendarz/wydarzenie/975-spotkanie-autorskie-z
 -marcinem-mellerem
END:VEVENT
END:VCALENDAR
