BEGIN:VCALENDAR
VERSION:2.0
PRODID:-//https://www.wbp.opole.pl///NONSGML kigkonsult.se iCalcreator 2.10.15//
METHOD:PUBLISH
BEGIN:VEVENT
UID:20260419T151121CEST-0498LbFJjr@https://www.wbp.opole.pl/
DTSTAMP:20260419T131121Z
DESCRIPTION:Zapraszamy do ogrodu Wojewódzkiej Biblioteki Publicznej w Opolu
  na wystawę ilustracji „Wrażliwe jak dziecko”.&nbsp\;\nWystawa prezentuje 
 dwanaście niezwykłych ilustracji publikowanych w magazynie „Newsweek Psych
 ologia Dziecka”. Zostały one stworzone\, aby zilustrować najważniejsze pro
 blemy młodych ludzi\, ich wrażliwość i perspektywę\, którą powinniśmy pozn
 ać także my – dorośli.\nAutorami ilustracji są wybitni polscy artyści\, m.
 in. Marianna Sztyma\, Emilia Dziubak\, Joanna Rusinek\, Nika Jaworowska-Du
 chlińska oraz Joanna Bartosik. Malują świat dziecięcych przeżyć\, abyśmy m
 ogli spojrzeć na nie oczami dziecka.\nPrzy obrazach umieszczone są QR kody
 \, które odsyłają do artykułów napisanych dla „Newsweek Psychologia Dzieck
 a” przez uznanych specjalistów z zakresu rozwoju i psychologii.\nPartnerem
  wystawy jest Fundacja ING Dzieciom.\n\nSerdecznie zapraszamy! https://www
 .wbp.opole.pl/kalendarz/wydarzenie/1156-wystawa-ilustracji-wrazliwe-jak-dz
 iecko
DTSTART:20250513T220000Z
DTEND:20251010T130300Z
LOCATION:Ogród WBP w Opolu (ul. Piastowska 20\, Opole)
SUMMARY: Wystawa ilustracji „Wrażliwe jak dziecko”.
URL:https://www.wbp.opole.pl/kalendarz/wydarzenie/1156-wystawa-ilustracji-w
 razliwe-jak-dziecko
END:VEVENT
BEGIN:VEVENT
UID:20260419T151121CEST-0501Fu98Sz@https://www.wbp.opole.pl/
DTSTAMP:20260419T131121Z
DESCRIPTION:Dr n. med. Justyna Jessa\, jest dietetykiem klinicznym\, absolw
 entką Warszawskiego Uniwersytetu Medycznego. W Instytucie Matki i Dziecka&
 nbsp\;w Warszawie w ramach doktoratu prowadziła badania dotyczące diety w 
 zaburzeniach ze spektrum autyzmu (ASD)\, szczegółowo zgłębiając temat powi
 ązania różnych aspektów żywienia z ASD.&nbsp\;Jest autorką książek: 'Autyz
 m i dieta - co jako rodzic powinieneś wiedzieć'\, 'SIBO-jak przywrócić rów
 nowagę pracy jelit' oraz 'Wszystkie oblicza cukru'.&nbsp\;Ma duże doświadc
 zenie w prowadzeniu diet u kobiet w ciąży\, również powikłanej\, dzieci\, 
 a także pacjentów z chorobami metabolicznymi i autoimmunologicznymi oraz S
 IBO i innymi zaburzeniami mikrobioty jelitowej. Jest autorką publikacji na
 ukowych oraz popularnonaukowych\, m.in. na temat nietolerancji glutenu\, p
 robiotyków i suplementów\, wpływu&nbsp\;mikrobiomu na zdrowie\, żywienia d
 zieci\, nutrigenetyki&nbsp\;i wielu innych.\nTemat: Żywienie dziecka w spe
 ktrum ASD - fakty i mity\nPodczas spotkania pani dietetyk wygłosi prelekcj
 ę nt:\n- Diety zasadne i zbędne w żywieniu dziecka w spektrum autyzmu\n- Z
  czego mogą wynikać problemy jelitowe u dziecka z ASD?\n- Kluczowe element
 y diety dla mózgu - 'brain food'\n- Suplementacja zasadna i zbędna\n- Wybi
 órczość pokarmowa u dziecka z ASD\, przyczyny&nbsp\;i strategie pracy z dz
 ieckiem z wybiórczością pokarmową\n- Diagnostyka zasadna i zbędna w świetl
 e wiedzy naukowej\nPo prelekcji odbędzie się dyskusja z uczestnikami\,&nbs
 p\;w czasie której dietetyk odpowie na pytania.\nW czasie spotkania będzie
  można zakupić książkę autorki.12.06.2025 r.godz. 17:00Sala spotkań WBP w 
 Opolu\,&nbsp\;ul. Piastowska 18*Informujemy\, że spotkania organizowane pr
 zez WBP w Opolu są rejestrowane oraz fotografowane. Materiały służą realiz
 acji celów statutowych i promocyjnych\, w tym publikowaniu na stronie www\
 , w social mediach i wydawnictwach WBP w Opolu https://www.wbp.opole.pl/ka
 lendarz/wydarzenie/1160-spotkanie-z-dr-n-med-justyna-jessa
DTSTART:20250612T150000Z
DTEND:20250612T163000Z
LOCATION:Wojewódzka Biblioteka Publiczna ul. Piastowska 20 ()
SUMMARY:Spotkanie z dr n. med. Justyną Jessą
URL:https://www.wbp.opole.pl/kalendarz/wydarzenie/1160-spotkanie-z-dr-n-med
 -justyna-jessa
END:VEVENT
BEGIN:VEVENT
UID:20260419T151121CEST-0504ViNuif@https://www.wbp.opole.pl/
DTSTAMP:20260419T131121Z
DESCRIPTION:Państwowa Szkoła Muzyczna I i II st. im. Fryderyka Chopina w Op
 olu\nDyrektor Państwowej Szkoły Muzycznej I i II st. im. Fryderyka Chopina
  w Opolu\nMuzyka w Galerii czyli Galeria Muzyki\nWojewódzka Biblioteka Pub
 liczna im. E. Smołki w Opolu\nDyrektor Wojewódzkiej Biblioteki Publicznej 
 im. Emanuela Smołki w Opolu\nzapraszają na koncert czwartek 12 czerwca 202
 5 r.\, godz. 17.00 GALERIA WBP\,&nbsp\;UL. PIASTOWSKA 20\n\nUCZENNICE KLAS
 Y WIOLONCZELI P. AGNIESZKI PŁOSZEJOWSKIEJ-SKUBISZ\nPOLA ŚWIĘTOŃ Jean-Bapti
 ste Breval – Concertino D-dur cz. 1 akompaniament – p. Wojciech Kopczak\nE
 STERA WILCZYŃSKA Gabriel Faure – Elegia\nUCZNIOWIE KLASY WIOLONCZELI P. AN
 NY TOHL-LANTYCH\nTOMASZ DUTKO Joseph Haydn – Koncert C-dur cz. 1 Hob: VII 
 b Antonín Dvořák – 'Melodie' akompaniament – p. Wojciech Kopczak\nIGA MAMZ
 ER Jean-Baptiste Breval – Koncert D-dur cz. 1 Aleksandr Arutiunian – 'Impr
 omptu' akompaniament – p. Wojciech Kopczak\nMARTA KOT Ryszard Kusek – 'Son
 ata nadzieja' cz. 1 i 2 Aleksandr Griecianinow – 'Wesołek' akompaniament –
  p. Joanna Sławińska-Kurdziel\nWIKTORIA DZIEDZIC Piotr Czajkowski – 'Smutn
 a pieśń' akompaniament – p. Joanna Sławińska-Kurdziel\nJULIA OLENDER Jean-
 Baptiste Breval – Concertino A-dur cz. 1 akompaniament – p. Joanna Wąsiak 
 https://www.wbp.opole.pl/kalendarz/wydarzenie/1174-koncert-z-cyklu-muzyka-
 w-galerii-czyli-galeria-muzyki
DTSTART;VALUE=DATE:20250612
LOCATION:Galeria WuBePe ()
SUMMARY:Koncert z cyklu 'Muzyka w Galerii\, czyli Galeria Muzyki'
URL:https://www.wbp.opole.pl/kalendarz/wydarzenie/1174-koncert-z-cyklu-muzy
 ka-w-galerii-czyli-galeria-muzyki
END:VEVENT
END:VCALENDAR
