BEGIN:VCALENDAR
VERSION:2.0
PRODID:-//https://www.wbp.opole.pl///NONSGML kigkonsult.se iCalcreator 2.10.15//
METHOD:PUBLISH
BEGIN:VEVENT
UID:20260420T022746CEST-25237TfRi8@https://www.wbp.opole.pl/
DTSTAMP:20260420T002746Z
DESCRIPTION:Zapraszamy do ogrodu Wojewódzkiej Biblioteki Publicznej w Opolu
  na wystawę ilustracji „Wrażliwe jak dziecko”.&nbsp\;\nWystawa prezentuje 
 dwanaście niezwykłych ilustracji publikowanych w magazynie „Newsweek Psych
 ologia Dziecka”. Zostały one stworzone\, aby zilustrować najważniejsze pro
 blemy młodych ludzi\, ich wrażliwość i perspektywę\, którą powinniśmy pozn
 ać także my – dorośli.\nAutorami ilustracji są wybitni polscy artyści\, m.
 in. Marianna Sztyma\, Emilia Dziubak\, Joanna Rusinek\, Nika Jaworowska-Du
 chlińska oraz Joanna Bartosik. Malują świat dziecięcych przeżyć\, abyśmy m
 ogli spojrzeć na nie oczami dziecka.\nPrzy obrazach umieszczone są QR kody
 \, które odsyłają do artykułów napisanych dla „Newsweek Psychologia Dzieck
 a” przez uznanych specjalistów z zakresu rozwoju i psychologii.\nPartnerem
  wystawy jest Fundacja ING Dzieciom.\n\nSerdecznie zapraszamy! https://www
 .wbp.opole.pl/kalendarz/wydarzenie/1156-wystawa-ilustracji-wrazliwe-jak-dz
 iecko
DTSTART:20250513T220000Z
DTEND:20251010T130300Z
LOCATION:Ogród WBP w Opolu (ul. Piastowska 20\, Opole)
SUMMARY: Wystawa ilustracji „Wrażliwe jak dziecko”.
URL:https://www.wbp.opole.pl/kalendarz/wydarzenie/1156-wystawa-ilustracji-w
 razliwe-jak-dziecko
END:VEVENT
BEGIN:VEVENT
UID:20260420T022746CEST-2526Fra4Lc@https://www.wbp.opole.pl/
DTSTAMP:20260420T002746Z
DESCRIPTION:Programm / Program\nFR\, 20.6.\n\n18:30 – 20:30 Eröffnung der V
 eranstaltung und Begrüßung Otwarcie wydarzenia i powitanie Paul Hansel\, N
 . n.\, N. n.\n\nSA\, 21.6.\n\n09:00 – 09:30 Das Oppelner Schlesien als Kon
 strukt. Die Wahrnehmung Oberschlesiens u. des Oppelner Schlesiens im Spann
 ungsfeld von Deutschland u. Polen Śląsk Opolski jako konstrukt. Postrzegan
 ie Górnego Śląska i Śląska Opolskiego z perspektywy Polski i Niemiec Dr. M
 onika Czok\n09:30 – 10:00 Heinz Pionteks Kreuzburger Jugend 1925–1943 Kreu
 zburska młodzież Heinza Piontka 1925–1943 Dr. Rafał Biskup\n10:00 – 10:30 
 Kaffeepause / Przerwa na kawę\n10:30 – 11:00 Die polnische Minderheit im d
 eutschen Oberschlesien von 1933–1939 Polska mniejszość w niemieckiej częśc
 i Górnego Śląska w latach 1933–1939 Dr. Gerhard Schiller\n11:00 – 11:30 Mu
 seen in Gleiwitz und Beuthen versus Muzeum Śląskie in Kattowitz. Zwischen 
 kultureller Identität und Nationalisierung Oberschlesiens in der Zwischenk
 riegszeit Muzea w Gliwicach i Bytomiu a Muzeum Śląskie w Katowicach. Międz
 y tożsamością kulturową a nacjonalizacją Górnego Śląska w okresie międzywo
 jennym Dr. Klara Kaczmarek-Löw\n11:30 – 12:00 Diskussion / Dyskusja Alle V
 ortragenden\n12:00 – 14:00 Mittagspause / Przerwa obiadowa\n14:00 – 16:00 
 Führung durch das Dokumentations- und Ausstellungszentrum der Deutschen in
  Polen Zwiedzanie Centrum Dokumentacji i Wystaw Niemców w Polsce Weronika 
 Wiese\n16:00 – 17:00 Vortrag über die Tätigkeiten des Forschungszentrums d
 er Deutschen Minderheit Wykład o działalności Centrum Badawczego Mniejszoś
 ci Niemieckiej Dr. Michał Matheja\n17:00 – 19:00 Zeit zur freien Verfügung
  / Czas do własnej dyspozycji\n19:00 – 21:00 Verleihung des Karin-Biermann
 -Preises für Schlesienforschung 2025 Wręczenie Nagrody im. Karin Biermann 
 za badania nad Śląskiem 2025 Prof. Dr. Jakub Adamski\n\nSO\, 22.6.\n\n09:0
 0 – 11:30 Stadtführung / Zwiedzanie miasta Bogna Piter\n11:30 – 12:00 Das 
 ist Schlesien! No comments / To jest Śląsk! No comments Dr. Adrian Madej\n
 12:00 – 12:30 Der Transport in Viehwaggons ins Ungewisse. Die oberschlesis
 che Tragödie im Jahr 1945 „Krowioki” w nieznane. O Tragedii Górnośląskiej 
 1945 roku Prof. Dr. Maciej Fic\n12:30 – 13:00 Diskussion und Abschlussbetr
 achtungen Dyskusja i podsumowanie rozważań Weronika Wiese\, Dr. Michał Mat
 heja\, Lisa Haberkern\n\nUdział przez Zoom:&nbsp\;Link do rejestracji\nOrg
 anizatorzy: Wojewódzka Biblioteka Publiczna im. Emanuela Smolki w Opolu\, 
 Centrum Dokumentacji i Wystaw Niemców w Polsce https://www.wbp.opole.pl/ka
 lendarz/wydarzenie/1171-konferencja-fundacji-dla-kultury-slaska-2025
DTSTART;VALUE=DATE:20250620
LOCATION:Wojewódzka Biblioteka Publiczna ul. Piastowska 20 ()
SUMMARY:Konferencja Fundacji dla Kultury Śląska 2025
URL:https://www.wbp.opole.pl/kalendarz/wydarzenie/1171-konferencja-fundacji
 -dla-kultury-slaska-2025
END:VEVENT
BEGIN:VEVENT
UID:20260420T022746CEST-2530vhCg2m@https://www.wbp.opole.pl/
DTSTAMP:20260420T002746Z
DESCRIPTION:Jerzy Stemplewski - Opolanin\, z wykształcenia mgr inż. Budowni
 ctwa lądowego\,&nbsp\;z zamiłowania i pasji fotografik o specyficznej repo
 rtażowej „duszy”. To współautor większości fotografii folderów reklamujący
 ch Opole i województwo. W latach 1966-2006 stały współpracownik „Nowej Try
 buny Opolskiej” działu sportowego. Absolwent New York Instytut of Photogra
 phy – 1968. Nauczyciel fotografii w Państwowym Liceum Sztuk Plastycznym im
 . Jana Cybisa w Opolu 1978-1994.&nbsp\;&nbsp\;Współpracował z takimi tytuł
 ami prasowymi jak:&nbsp\;Słowem Powszechnym\, Katolikiem\, Tygodnikiem Opo
 lskim&nbsp\;i Panoramą Opolską\, Gościem Niedzielnym i Super Expresem. W l
 atach dziewięćdziesiątych zainteresowany fotografią krajoznawczą - wykonał
  dla Poczty Polskiej ponad trzysta wzorów pocztówek przedstawiających Opol
 e i inne miejscowości województwa opolskiego. Podczas Światowej Wystawy EX
 PO – Hannover 2000\, jego zdjęcia zostały wykorzystane na pięciu pocztówka
 ch prezentujących Opolszczyznę. Na zlecenie Kurii Diecezjalnej w Opolu sfo
 tografował wszystkie diecezjalne kościoły parafialne (blisko 400). Zdjęcia
  zostały zamieszczone w Roczniku Diecezji Opolskiej z 1996 r. Fotografie w
 ykonane przez Jerzego Stemplewskiego opublikowano w licznych książkach i a
 lbumach: Zamek w Mosznej\, Powódź Tysiąclecia – Opole\,&nbsp\;w 1997 roku\
 , Dzieje Ziemi Korfantowskiej\, Nasza Mała Ojczyzna – Strzeleczki\, Wrocła
 w – Opole\, a także w książce dr Joanny Banik – „Rody Opolskie”. Jego foto
 grafie ozdobiły również publikacje książkowe jak „Opole - 150 lat fotograf
 ii” Urszuli Zajączkowskiej oraz „Śląsk Opolski – Dziedzictwo&nbsp\;i współ
 czesność” pod redakcją prof. Doroty Simonides. Jerzy Stemplewski od pół wi
 eku tworzy dokumentację z wydarzeń kulturalnych regionu\, fotografując wyb
 itne osobistości świata kultury i nauki. Od 1996 roku jest członkiem Związ
 ku Polskich Artystów Polska Sztuka Użytkowa (obecnie członek Zarządu Okręg
 u w Opolu).\nWystawa czynna do 8 lipca 2025 r. w Galerii WuBePe&nbsp\;Godz
 iny otwarcia Galerii WuBePe od&nbsp\;1 LIPCA - 31 SIERPNIAponiedziałek 10.
 00-16.00wtorek 10.00-16.00środa 10.00-16.00czwartek 10.00-18.00piątek 10.0
 0-18.00\n*Informujemy\, że spotkania organizowane przez WBP w Opolu są rej
 estrowane oraz fotografowane. Materiały służą realizacji celów statutowych
  i promocyjnych\, w tym publikowaniu na stronie www\, w social mediach i w
 ydawnictwach WBP w Opolu&nbsp\; https://www.wbp.opole.pl/kalendarz/wydarze
 nie/1175-zapraszamy-na-wystawe-jerzy-stemplewski-60-lat-fotografowania
DTSTART:20250617T150000Z
DTEND:20250708T163000Z
LOCATION:Wojewódzka Biblioteka Publiczna ul. Piastowska 20 ()
SUMMARY:Zapraszamy na  wystawę 'Jerzy Stemplewski. 60 lat fotografowania'
URL:https://www.wbp.opole.pl/kalendarz/wydarzenie/1175-zapraszamy-na-wystaw
 e-jerzy-stemplewski-60-lat-fotografowania
END:VEVENT
END:VCALENDAR
